BEGIN:VCALENDAR
PRODID:-//github.com/rianjs/ical.net//NONSGML ical.net 4.0//EN
VERSION:2.0
BEGIN:VTIMEZONE
TZID:Eastern Standard Time
X-LIC-LOCATION:America/New_York
BEGIN:STANDARD
DTSTART:20241103T020000
RRULE:FREQ=YEARLY;BYDAY=1SU;BYMONTH=11
TZNAME:EST
TZOFFSETFROM:-0400
TZOFFSETTO:-0500
END:STANDARD
BEGIN:DAYLIGHT
DTSTART:20250309T020000
RRULE:FREQ=YEARLY;BYDAY=2SU;BYMONTH=3
TZNAME:EDT
TZOFFSETFROM:-0500
TZOFFSETTO:-0400
END:DAYLIGHT
END:VTIMEZONE
BEGIN:VEVENT
DTEND;TZID=Eastern Standard Time;VALUE=DATE:20260502
DTSTAMP:20260421T044645Z
DTSTART;TZID=Eastern Standard Time;VALUE=DATE:20260427
LOCATION:None
ORGANIZER;CN=International Inbound Travel Association;SENT-BY="mailto:Head
 quarters@inboundtravel.org":
SEQUENCE:0
SUMMARY:IITA: Steps to Success Live - Visit Eastern & Central Oregon
UID:c9281d4d-da28-480d-97eb-4d75d9a69f14
END:VEVENT
END:VCALENDAR
