BEGIN:VCALENDAR
PRODID:-//github.com/rianjs/ical.net//NONSGML ical.net 4.0//EN
VERSION:2.0
BEGIN:VTIMEZONE
TZID:Eastern Standard Time
X-LIC-LOCATION:America/New_York
BEGIN:STANDARD
DTSTART:20241103T020000
RRULE:FREQ=YEARLY;BYDAY=1SU;BYMONTH=11
TZNAME:EST
TZOFFSETFROM:-0400
TZOFFSETTO:-0500
END:STANDARD
BEGIN:DAYLIGHT
DTSTART:20250309T020000
RRULE:FREQ=YEARLY;BYDAY=2SU;BYMONTH=3
TZNAME:EDT
TZOFFSETFROM:-0500
TZOFFSETTO:-0400
END:DAYLIGHT
END:VTIMEZONE
BEGIN:VEVENT
DTEND;TZID=Eastern Standard Time;VALUE=DATE:20260430
DTSTAMP:20260421T044958Z
DTSTART;TZID=Eastern Standard Time;VALUE=DATE:20260428
LOCATION:The Samoset Resort 220 Warrenton Street Rockport\, ME 04856-3816 
 United States
ORGANIZER;CN=International Inbound Travel Association;SENT-BY="mailto:Head
 quarters@inboundtravel.org":
SEQUENCE:0
SUMMARY:IITA: Maine Tourism Conference
UID:a9e4c807-24c7-4b40-9667-e4ca70cc5948
END:VEVENT
END:VCALENDAR
