BEGIN:VCALENDAR
PRODID:-//github.com/rianjs/ical.net//NONSGML ical.net 4.0//EN
VERSION:2.0
BEGIN:VTIMEZONE
TZID:Eastern Standard Time
X-LIC-LOCATION:America/New_York
BEGIN:STANDARD
DTSTART:20241103T020000
RRULE:FREQ=YEARLY;BYDAY=1SU;BYMONTH=11
TZNAME:EST
TZOFFSETFROM:-0400
TZOFFSETTO:-0500
END:STANDARD
BEGIN:DAYLIGHT
DTSTART:20250309T020000
RRULE:FREQ=YEARLY;BYDAY=2SU;BYMONTH=3
TZNAME:EDT
TZOFFSETFROM:-0500
TZOFFSETTO:-0400
END:DAYLIGHT
END:VTIMEZONE
BEGIN:VEVENT
DESCRIPTION:Premier Advocacy Event for the Travel Industry
DTEND;TZID=Eastern Standard Time;VALUE=DATE:20270422
DTSTAMP:20260423T155244Z
DTSTART;TZID=Eastern Standard Time;VALUE=DATE:20270419
LOCATION:Washington\, District of Columbia
ORGANIZER;CN=;SENT-BY="mailto:":
SEQUENCE:0
SUMMARY:IITA: Destination Capitol Hill 2027
UID:85ae7890-c165-4dfd-9e4d-8c38e8bb4611
END:VEVENT
END:VCALENDAR
